BEGIN:VCALENDAR
VERSION:2.0
PRODID:-//wp-events-plugin.com//7.2.3.1//EN
TZID:Europe/Berlin
X-WR-TIMEZONE:Europe/Berlin
BEGIN:VEVENT
UID:13-3286@frauenbund-schoenau.de
DTSTART;TZID=Europe/Berlin:20221126T150000
DTEND;TZID=Europe/Berlin:20221126T220000
DTSTAMP:20221018T181342Z
URL:https://frauenbund-schoenau.de/events/fahrt-zu-einem-christkindlmarkt/
SUMMARY:Fahrt zum Christkindlmarkt "Adventszauber Salzburg" Schloss Hellbru
 nn
DESCRIPTION:Abfahrt um 15:00 Uhr in Schönau am Kirchplatz\n\nRückfahrt ca
 . 20:00 Uhr von Salzburg\n\nAnkunft in Schönau ca. 22:00 Uhr
END:VEVENT
BEGIN:VTIMEZONE
TZID:Europe/Berlin
X-LIC-LOCATION:Europe/Berlin
BEGIN:STANDARD
DTSTART:20221030T020000
TZOFFSETFROM:+0200
TZOFFSETTO:+0100
TZNAME:CET
END:STANDARD
END:VTIMEZONE
END:VCALENDAR